BEGIN:VCALENDAR
VERSION:2.0
PRODID:-//eventon.com NONSGML v1.0//EN
CALSCALE:GREGORIAN
METHOD:PUBLISH
BEGIN:VEVENT
UID:69e92d597e146
DTSTAMP:20260422T201937Z
DTSTART:20240126T183000Z
DTEND:20240126T220000Z
LOCATION:Katrinebjergskolen Aarhus Katrinebjergskolen Aarhus
SUMMARY:Gratis prøvetime - Swing og Rock'n'roll
DESCRIPTION:Har du lyst til at lære at danse swing? Så er det nu\,  du ha
 r chancen! Kom og Dans Aarhus afholder gratis prøvetime i januar 🙂 19:3
 0: Gratis introkursus ved Oliver Christensen20:30-23:00: Fri dans med DJ De
 nne gratis INTRO-aften er for alle interesserede – så alle har mulighed 
 for at[..]\nhttps://danseparaplyen.dk/events/gratis-provetime-swing-og-rock
 nroll-2/
URL:https://danseparaplyen.dk/events/gratis-provetime-swing-og-rocknroll-2/
END:VEVENT
END:VCALENDAR