BEGIN:VCALENDAR
VERSION:2.0
PRODID:-//eventon.com NONSGML v1.0//EN
CALSCALE:GREGORIAN
METHOD:PUBLISH
BEGIN:VEVENT
UID:69e942056f993
DTSTAMP:20260422T214749Z
DTSTART:20240126T190000Z
DTEND:20240126T220000Z
LOCATION:CasaV58 CasaV58
SUMMARY:Screamin’ Orphans
DESCRIPTION:Snyd ikke sig selv for denne anderledes Aarhus bluesoplevelse a
 f lige dele ”16 tons” og ”Way down in a hole”. 2 x sæt til bare 50
  kr. på en dejlig fredag i januar. Døre åbner kl. 20.00Koncertstart kl. 
 21.00Forsalg 50\, - kr.I døren 60\, - kr.Følg link for forsalg:https://ww
 w.place2book.com/da/sw2/sales/d3bx0lt7lq Screamin’ Orphans spiller[..]\nh
 ttps://danseparaplyen.dk/events/screamin-orphans/
URL:https://danseparaplyen.dk/events/screamin-orphans/
END:VEVENT
END:VCALENDAR