BEGIN:VCALENDAR
VERSION:2.0
PRODID:-//eventon.com NONSGML v1.0//EN
CALSCALE:GREGORIAN
METHOD:PUBLISH
BEGIN:VEVENT
UID:69ed872935441
DTSTAMP:20260426T033153Z
DTSTART:20240204T150000Z
DTEND:20240204T170000Z
LOCATION:Folkestedet Folkestedet
SUMMARY:Balkan dances
DESCRIPTION:Join us in our dance circle this Sunday and enjoy the uplifting
  melodies of Balkan🥁🪗You can learn new dances from our instructors an
 d dance the ones you already know💃Doors will open at 15:45\,  we hope to
  see you there! One-time visit: 50 kr.Yearly membership: 300 kr. https://ww
 w.facebook.com/events/736856228292596/\nhttps://danseparaplyen.dk/events/ba
 lkan-dances-2/
URL:https://danseparaplyen.dk/events/balkan-dances-2/
END:VEVENT
END:VCALENDAR