BEGIN:VCALENDAR
VERSION:2.0
PRODID:-//eventon.com NONSGML v1.0//EN
CALSCALE:GREGORIAN
METHOD:PUBLISH
BEGIN:VEVENT
UID:69ed12cea24b5
DTSTAMP:20260425T191526Z
DTSTART:20240207T180000Z
DTEND:20240207T203000Z
LOCATION:Studenterhus Aarhus Studenterhus Aarhus
SUMMARY:Nordisk Dans Aarhus - 7. februar: SØNDERHONING
DESCRIPTION:Onsdag d. 7. februar mødes vi til den første danseaften i det
 te semester\,  og aftenens tema er SØNDERHONING! 💃🕺 Vi glæder os ti
 l igen at byde på en festlig aften med levende musik\,  kolde øl/sodavand
  og selvfølgelig en masse dans! Aftenen er GRATIS (😱)\,  og ALLE er vel
 komne\,  uanset om[..]\nhttps://danseparaplyen.dk/events/nordisk-dans-aarhu
 s-7-februar/
URL:https://danseparaplyen.dk/events/nordisk-dans-aarhus-7-februar/
END:VEVENT
END:VCALENDAR