BEGIN:VCALENDAR
VERSION:2.0
PRODID:-//eventon.com NONSGML v1.0//EN
CALSCALE:GREGORIAN
METHOD:PUBLISH
BEGIN:VEVENT
UID:69e5080dc3cd4
DTSTAMP:20260419T165125Z
DTSTART:20240216T163000Z
DTEND:20240218T183000Z
LOCATION:Fritidscenter Skovvang – Skovvangsvej 127\,  8200 Aarhus Fritidscenter Skovvang – Skovvangsvej 127\,  8200 Aarhus
SUMMARY:Lambada for zouk dancers with Olga and Fernando!
DESCRIPTION:Last time Olga and Fernando visited Aarhus\,  they gave us a wo
 nderful sneak peek into the fun world of Lambada. It is very popular on the
  zouk dance floors around the world and now we need to learn! It is time fo
 r us to dive into one of the foundations[..]\nhttps://danseparaplyen.dk/eve
 nts/lambada-for-zouk-dancers-with-olga-and-fernando/
URL:https://danseparaplyen.dk/events/lambada-for-zouk-dancers-with-olga-and-fernando/
END:VEVENT
END:VCALENDAR