BEGIN:VCALENDAR
VERSION:2.0
PRODID:-//eventon.com NONSGML v1.0//EN
CALSCALE:GREGORIAN
METHOD:PUBLISH
BEGIN:VEVENT
UID:69e4f1bd1bfcc
DTSTAMP:20260419T151613Z
DTSTART:20240217T200000Z
DTEND:20240218T010000Z
LOCATION:CasaV58 CasaV58
SUMMARY:Samba da Gente - Live Concert - Carnival - Dj Alexi
DESCRIPTION:Versão em português abaixo👇🏼Versión en español más a
 bajo👇🏼👇🏼Samba da Gente &#8211; Live Concert &#8211; Carnival Ge
 t ready to experience a lovely and festive Brazilian party night &#8211; it
 &#8217;s carnival time so on with glitter and colours!! Doors open at 9 p.m
 Concert start at 10 p.m Admission in pre-sale DKK 130.Entrance[..]\nhttps:/
 /danseparaplyen.dk/events/samba-da-gente-live-concert-carnival/
URL:https://danseparaplyen.dk/events/samba-da-gente-live-concert-carnival/
END:VEVENT
END:VCALENDAR