BEGIN:VCALENDAR
VERSION:2.0
PRODID:-//eventon.com NONSGML v1.0//EN
CALSCALE:GREGORIAN
METHOD:PUBLISH
BEGIN:VEVENT
UID:69e4c76cb6ada
DTSTAMP:20260419T121540Z
DTSTART:20240315T170000Z
DTEND:20240317T210000Z
LOCATION:Fritidscenter Skovvang – Skovvangsvej 127\,  8200 Aarhus\,  Denmark Fritidscenter Skovvang – Skovvangsvej 127\,  8200 Aarhus\,  Denmark
SUMMARY:Brazilian Zouk Bootcamp - Norway meets Denmark
DESCRIPTION:Venue:Fritidscenter Skovvang – Skovvangsvej 127\,  8200 Aarhu
 s\,  Denmark Level:For participation in the weekend\,  we expect the partic
 ipants to have a solid foundation within zouk for both days with minimum 2 
 years\,  so you have an understanding of the techniques and comfortable in 
 dancing. Friday workshop aimed for everyone from all[..]\nhttps://dansepara
 plyen.dk/events/brazilian-zouk-bootcamp-norway-meets-denmark/
URL:https://danseparaplyen.dk/events/brazilian-zouk-bootcamp-norway-meets-denmark/
END:VEVENT
END:VCALENDAR