BEGIN:VCALENDAR
VERSION:2.0
PRODID:-//eventon.com NONSGML v1.0//EN
CALSCALE:GREGORIAN
METHOD:PUBLISH
BEGIN:VEVENT
UID:69e6257f62251
DTSTAMP:20260420T130919Z
DTSTART:20240415T170000Z
DTEND:20240415T200000Z
LOCATION:Folkestedet Folkestedet
SUMMARY:Bachata Mondays at Folkestedet
DESCRIPTION:Hello Bachateros\,  Keep calm and dance bachata! Agenda:19:00 t
 o 20:00 &#8211; Intro lessons (Open level)20:00 to 22:00 &#8211; Socials Pr
 ice: Lessons + Social: 60 DKKOnly Socials: 40 DKK Student price: 30 DKK Mob
 ile Pay: 520696 (Bachata Aarhus)Or Cash Hope to see you all soon. CheersBac
 hata Aarhus https://www.facebook.com/events/743397000992479/?event_time_id=
 743397050992474\nhttps://danseparaplyen.dk/events/bachata-mondays-at-folkes
 tedet-8/
URL:https://danseparaplyen.dk/events/bachata-mondays-at-folkestedet-8/
END:VEVENT
END:VCALENDAR