BEGIN:VCALENDAR
VERSION:2.0
PRODID:-//eventon.com NONSGML v1.0//EN
CALSCALE:GREGORIAN
METHOD:PUBLISH
BEGIN:VEVENT
UID:69e57c3e78a72
DTSTAMP:20260420T010710Z
DTSTART:20240501T163000Z
DTEND:20240501T193000Z
LOCATION:Studenterhus Aarhus Studenterhus Aarhus
SUMMARY:Nordisk Dans Aarhus - 1. maj: FESTLIGE FÆLLESDANSE
DESCRIPTION:Onsdag d. 1. maj mødes vi til sidste danseaften i dette semest
 er\,  og aftenens tema er FESTLIGE FÆLLESDANSE! 💃🕺 Vi glæder os til
  igen at byde på en festlig aften med levende musik\,  kolde øl/sodavand 
 og selvfølgelig en masse dans! Aftenen er GRATIS (😱)\,  og ALLE er velk
 omne\,  uanset om[..]\nhttps://danseparaplyen.dk/events/nordisk-dans-aarhus
 -1-maj-festlige-faellesdanse/
URL:https://danseparaplyen.dk/events/nordisk-dans-aarhus-1-maj-festlige-faellesdanse/
END:VEVENT
END:VCALENDAR