BEGIN:VCALENDAR
VERSION:2.0
PRODID:-//eventon.com NONSGML v1.0//EN
CALSCALE:GREGORIAN
METHOD:PUBLISH
BEGIN:VEVENT
UID:69e623767125c
DTSTAMP:20260420T130038Z
DTSTART:20240511T180000Z
DTEND:20240511T210000Z
LOCATION:CasaV58 CasaV58
SUMMARY:Sóngoro Cosongo - Live Salsa Concert
DESCRIPTION:Versión en español a seguir👇🏼 Sóngoro Cosongo &#8211; 
 Live Salsa Doors open at 20.00Concert start at 21.00Admission in advance sa
 le DKK 140.Please follow link:https://www.place2book.com/da/sw2/sales/e04t9
 6x69nAdmission DKK 160 at the door.Youth ticket for young people under 25 o
 nly DKK 100! The Sóngoro Cosongo Orchestra stands on the shoulders of arti
 sts from the[..]\nhttps://danseparaplyen.dk/events/songoro-cosongo-live-sal
 sa/
URL:https://danseparaplyen.dk/events/songoro-cosongo-live-salsa/
END:VEVENT
END:VCALENDAR