BEGIN:VCALENDAR
VERSION:2.0
PRODID:-//eventon.com NONSGML v1.0//EN
CALSCALE:GREGORIAN
METHOD:PUBLISH
BEGIN:VEVENT
UID:69ecefc2b7ea4
DTSTAMP:20260425T164554Z
DTSTART:20240124T184000Z
DTEND:20240124T213000Z
LOCATION:Folkestedet Folkestedet
SUMMARY:Kizomba drop in onsdag
DESCRIPTION:Velkommen til endnu en kizomba-fest på Folkestedet i denne nye
  tid! 💃🏻🕺🏻 INTRO 💃🏻🕺🏻Kl.19.40 vil Criss Kizz stå f
 or onsdagens intro til Kizomba. Uanset om du er nybegynder eller øvet\,  e
 r du velkommen til at deltage! Criss\,  Folkestedets erfarne kizomaundervis
 er\,  fokuserer på grundtrin\,  samt essentielle &#8220;Kizomba-regler&#82
 21; så deltagerne får en[..]\nhttps://danseparaplyen.dk/events/kizomba-dr
 op-in-onsdag/
URL:https://danseparaplyen.dk/events/kizomba-drop-in-onsdag/
END:VEVENT
END:VCALENDAR