BEGIN:VCALENDAR
VERSION:2.0
PRODID:-//eventon.com NONSGML v1.0//EN
CALSCALE:GREGORIAN
METHOD:PUBLISH
BEGIN:VEVENT
UID:69e4ec3ab7089
DTSTAMP:20260419T145242Z
DTSTART:20240323T100000Z
DTEND:20240323T120000Z
LOCATION:Dansestudiet Aarhus Dansestudiet Aarhus
SUMMARY:"Unique Expression" - American Modern Dance Masterworks med Jacquelin Bulnes
DESCRIPTION:MÃ…NEDENS MASTERCLASS MARTS: Dansestudiet fÃ¥r til marts et glÃ
 ¦deligt gensyn med Jacqueline BulnÃ©s. Vi har 2 gange tidligere haft en Mas
 terclass med Jacqueline og det var med stor succes. Hun er tidligere solist
  i bÃ¥de &#8220;Martha Graham Dance Company&#8221; og &#8220;Jose LimÃ³n Da
 nce Company&#8221; i New York og workshoppen er[..]\nhttps://danseparaplyen
 .dk/events/unique-expression-american-modern-dance-masterworks-med-jacqueli
 n-bulnes/
URL:https://danseparaplyen.dk/events/unique-expression-american-modern-dance-masterworks-med-jacquelin-bulnes/
END:VEVENT
END:VCALENDAR