BEGIN:VCALENDAR
VERSION:2.0
PRODID:-//eventon.com NONSGML v1.0//EN
CALSCALE:GREGORIAN
METHOD:PUBLISH
BEGIN:VEVENT
UID:69ecfad84e81a
DTSTAMP:20260425T173312Z
DTSTART:20240205T173000Z
DTEND:20240205T185500Z
LOCATION:Folkestedet Folkestedet
SUMMARY:Introclass / zouk-taster
DESCRIPTION:Zouk introduction class / zouk-taster Aarhus Zoukforening would
  like to invite you for this introduction to zouk (brazilian zouk). This cl
 ass will be relevant for you:&#8211; If you never have tried zouk before\, 
  but would like to get a taste of it.&#8211; If you have recently started z
 ouk\,  and would[..]\nhttps://danseparaplyen.dk/events/introclass-zouk-tast
 er/
URL:https://danseparaplyen.dk/events/introclass-zouk-taster/
END:VEVENT
END:VCALENDAR