BEGIN:VCALENDAR
VERSION:2.0
PRODID:-//eventon.com NONSGML v1.0//EN
CALSCALE:GREGORIAN
METHOD:PUBLISH
BEGIN:VEVENT
UID:69ed56dc362fd
DTSTAMP:20260426T000548Z
DTSTART:20240204T100000Z
DTEND:20240204T110000Z
LOCATION:Folkestedet Folkestedet
SUMMARY:Latin Dance with Jeimmy ( Free)
DESCRIPTION:Vamos a bailar! 💃🕺🎶🌶🔥 Are you ready to Dance thi
 s 2024 I invite you to live the experience of a spicy Latin dance that will
  bring you a warm feeling on the coldest days in the Danish winter! For you
  who have always wanted to learn to dance and don&#8217;t[..]\nhttps://dans
 eparaplyen.dk/events/latin-dance-with-jeimmy-free/
URL:https://danseparaplyen.dk/events/latin-dance-with-jeimmy-free/
END:VEVENT
END:VCALENDAR