BEGIN:VCALENDAR
VERSION:2.0
PRODID:-//eventon.com NONSGML v1.0//EN
CALSCALE:GREGORIAN
METHOD:PUBLISH
BEGIN:VEVENT
UID:69ed3eb6850e4
DTSTAMP:20260425T222246Z
DTSTART:20240204T164500Z
DTEND:20240204T213000Z
LOCATION:Stakladen Live Stakladen Live
SUMMARY:Bailatina in ColLab with Aarhus Dance Festival
DESCRIPTION:Program (english version below): Studenterhus Aarhus\,  Salsacl
 ave og Aarhus Dance Festival glæder sig til at holde artist reveal med jer
 ! Kom og mød organizerne bag Aarhus Dance Festival og se hvad der er i ven
 te til årets udgave af festivalen. Denne søndag er Bailatin nemlig en ”
 special edition”. Underviserne denne[..]\nhttps://danseparaplyen.dk/event
 s/bailatina-in-collab-with-aarhus-dance-festival/
URL:https://danseparaplyen.dk/events/bailatina-in-collab-with-aarhus-dance-festival/
END:VEVENT
END:VCALENDAR