BEGIN:VCALENDAR
VERSION:2.0
PRODID:-//eventon.com NONSGML v1.0//EN
CALSCALE:GREGORIAN
METHOD:PUBLISH
BEGIN:VEVENT
UID:69e520cdca4f5
DTSTAMP:20260419T183701Z
DTSTART:20240315T190000Z
DTEND:20240315T220000Z
LOCATION:Folkestedet Folkestedet
SUMMARY:FredagsPractica
DESCRIPTION:FredagspractikaVærtskab og DJ står Inge og Søren for.Prisen 
 er 30 kr. for medlemmer og 50 kr for gæster. I prisen er inkluderet lidt v
 in &#038; en snack. Du kan også gå på hjemmesiden og få VIP practica me
 dlemsskab &#8211; så er alle årets practica glæder betalt:) https://tang
 oaarhus.dk/Ved ankomst ring på[..]\nhttps://danseparaplyen.dk/events/freda
 gspractica-7/
URL:https://danseparaplyen.dk/events/fredagspractica-7/
END:VEVENT
END:VCALENDAR