BEGIN:VCALENDAR
VERSION:2.0
PRODID:-//eventon.com NONSGML v1.0//EN
CALSCALE:GREGORIAN
METHOD:PUBLISH
BEGIN:VEVENT
UID:69ecb20b7fe2b
DTSTAMP:20260425T122235Z
DTSTART:20240206T190000Z
DTEND:20240206T210000Z
LOCATION:Folkestedet Folkestedet
SUMMARY:Zouklounge d.  6/2
DESCRIPTION:Vær opmærksom på\,  at vi i en otte ugers periode fra 30/1 t
 il og med 19/3 *ikke* har vores sædvanlige drop-in workshop kl. 19-20. Dvs
 . vi starter først klokken 20\,  hvor vi går direkte til fri dans. Dette 
 skyldes\,  at der er holdundervisning i samme lokale frem til klokken 20.[.
 .]\nhttps://danseparaplyen.dk/events/zouklounge-d-6-2/
URL:https://danseparaplyen.dk/events/zouklounge-d-6-2/
END:VEVENT
END:VCALENDAR