BEGIN:VCALENDAR
VERSION:2.0
PRODID:-//eventon.com NONSGML v1.0//EN
CALSCALE:GREGORIAN
METHOD:PUBLISH
BEGIN:VEVENT
UID:69ed3fc9669f9
DTSTAMP:20260425T222721Z
DTSTART:20240207T184000Z
DTEND:20240207T213000Z
LOCATION:Folkestedet Folkestedet
SUMMARY:Kizomba drop in ÆNDRING AF LOKALE
DESCRIPTION:GRUNDET UVENTEDE OMSTÆNDIGHEDER BRUGER VI LOKALET I STUEPLANET
  TIL VENSTRE FOR INDGANGEN (det gamle kizomba-lokale)Velkommen til endnu en
  kizomba-fest på Folkestedet i denne nye tid! 💃🏻🕺🏻 INTRO 💃
 🕺🏻Kl.19.40 vil Criss Kizz stå for onsdagens intro til Kizomba. Ua
 nset om du er nybegynder eller øvet\,  er du velkommen til at deltage![..]
 \nhttps://danseparaplyen.dk/events/kizomba-drop-in-onsdag-2/
URL:https://danseparaplyen.dk/events/kizomba-drop-in-onsdag-2/
END:VEVENT
END:VCALENDAR