BEGIN:VCALENDAR
VERSION:2.0
PRODID:-//eventon.com NONSGML v1.0//EN
CALSCALE:GREGORIAN
METHOD:PUBLISH
BEGIN:VEVENT
UID:69ed6d312cde8
DTSTAMP:20260426T014105Z
DTSTART:20240210T130000Z
DTEND:20240210T160000Z
LOCATION:Online Event Online Event
SUMMARY:Alvilda Striim Intensive 🧠
DESCRIPTION:Vi har den store fornøjelse af igen at have Alvilda Striim på
  besøg den 10. februar\,  hvor hun underviser en Fusion Intensive. Her kan
  du se frem til både at udforske kropsdynamik\,  tempo og floorwork🐍
 . Alvilda er et velkendt ansigt og har været en del af fællesskabet side
 n hendes egne[..]\nhttps://danseparaplyen.dk/events/alvilda-striim-intensiv
 e-%f0%9f%a7%a0/
URL:https://danseparaplyen.dk/events/alvilda-striim-intensive-%f0%9f%a7%a0/
END:VEVENT
END:VCALENDAR