BEGIN:VCALENDAR
VERSION:2.0
PRODID:-//eventon.com NONSGML v1.0//EN
CALSCALE:GREGORIAN
METHOD:PUBLISH
BEGIN:VEVENT
UID:69e57e1485d4f
DTSTAMP:20260420T011500Z
DTSTART:20240321T190000Z
DTEND:20240321T230000Z
LOCATION:Madam Cuba Madam Cuba
SUMMARY:Drop-in salsa ved Åen - hver torsdag!
DESCRIPTION:GRATIS ENTRÉ! Guest instructor for the evening &#8211; Michael
  Rue Alex! Come have fun\,  and learn\,  from Mr. Charmin himself&#8230;! M
 ichael Will teach you some hot Bachata moves tonight! Ugentlig Salsa/Latin 
 party med Cubanisima på Madam Cuba. Hver torsdag! Intro til salsa\,  DJs\,
   cocktails og dans!FREE ENTRY!Every thursday salsa party[..]\nhttps://dans
 eparaplyen.dk/events/drop-in-salsa-ved-aen-hver-torsdag-9/
URL:https://danseparaplyen.dk/events/drop-in-salsa-ved-aen-hver-torsdag-9/
END:VEVENT
END:VCALENDAR