BEGIN:VCALENDAR
VERSION:2.0
PRODID:-//eventon.com NONSGML v1.0//EN
CALSCALE:GREGORIAN
METHOD:PUBLISH
BEGIN:VEVENT
UID:69e4d40aae0d3
DTSTAMP:20260419T130930Z
DTSTART:20240323T120000Z
DTEND:20240323T150000Z
LOCATION:Brobjergskolen Brobjergskolen
SUMMARY:Cha-cha-cha workshop
DESCRIPTION:Update (February 23th): This workshop is fully booked for follo
 wers. In this workshop turnpatterns will be of moderate difficulty. You wil
 l dance the cha-cha-cha in the cross body style (follower dance on a line) 
 and on2. Requirements: It’s a necessity that you are familiar with the ba
 sic rythm and steps[..]\nhttps://danseparaplyen.dk/events/cha-cha-cha-works
 hop/
URL:https://danseparaplyen.dk/events/cha-cha-cha-workshop/
END:VEVENT
END:VCALENDAR