BEGIN:VCALENDAR
VERSION:2.0
PRODID:-//eventon.com NONSGML v1.0//EN
CALSCALE:GREGORIAN
METHOD:PUBLISH
BEGIN:VEVENT
UID:69e4ea7694d60
DTSTAMP:20260419T144510Z
DTSTART:20240323T170000Z
DTEND:20240323T225900Z
LOCATION:Radisson RED Hotel\,  Aarhus Radisson RED Hotel\,  Aarhus
SUMMARY:PåskefrokostFest // KarmaKlubben ØstJylland • AARHUS // Lørdag 23. marts
DESCRIPTION:🌺KARMAKLUBBENS Påskefrokost🌺 🐥🌷🐣Vi fejrer påsk
 en og byder foråret velkommen 🐥🌷🐣 Tag dine venner\,  ægtefælle\
 ,  familemedlem\,  kæreste eller kollega under armen og kom til påskefrok
 ost med masser af god energi\,  danseglæde\,  mad\,  venlige mennesker og 
 mere dans i lange baner. ⏰TIDSPLANKl. 18.00: Dørene åbnerKl. 18.00: Vi 
 går til bordsKl. 20.00: Dørene[..]\nhttps://danseparaplyen.dk/events/pask
 efrokostfest-karmaklubben-ostjylland-aarhus-lordag-23-marts/
URL:https://danseparaplyen.dk/events/paskefrokostfest-karmaklubben-ostjylland-aarhus-lordag-23-marts/
END:VEVENT
END:VCALENDAR