BEGIN:VCALENDAR
VERSION:2.0
PRODID:-//eventon.com NONSGML v1.0//EN
CALSCALE:GREGORIAN
METHOD:PUBLISH
BEGIN:VEVENT
UID:69ecddda3c4be
DTSTAMP:20260425T152930Z
DTSTART:20241031T190000Z
DTEND:20241031T220000Z
LOCATION:CasaV58 CasaV58
SUMMARY:Hecchi ★ Dia de los Muertos · Casa V58 // Aarhus
DESCRIPTION:Velkommen til &#8216;Day of the Dead&#8217; med en unik musikal
 sk oplevelse på CasaV58! CasaV58 og Multination præsenterer med stolthed 
 den internationalt anerkendte frontman og sangskriver Mike Hecchi der genop
 liver et kultmateriale uden sidestykke med et band\,  der siges at være en
  regulær super-gruppe.Et spektakulum der bedst kan betegnes som et[..]\nht
 tps://danseparaplyen.dk/events/hecchi-%e2%98%85-casa-v58-%c2%b7-aarhus-%c2%
 b7-revival-tour-24/
URL:https://danseparaplyen.dk/events/hecchi-%e2%98%85-casa-v58-%c2%b7-aarhus-%c2%b7-revival-tour-24/
END:VEVENT
END:VCALENDAR