BEGIN:VCALENDAR
VERSION:2.0
PRODID:-//eventon.com NONSGML v1.0//EN
CALSCALE:GREGORIAN
METHOD:PUBLISH
BEGIN:VEVENT
UID:69e7638b5971c
DTSTAMP:20260421T114619Z
DTSTART:20240220T170000Z
DTEND:20240220T180000Z
LOCATION:Teaterskolen Move'n Act Teaterskolen Move'n Act
SUMMARY:Cuban salsa course (Open level)
DESCRIPTION:🌟 Have you ever wanted to dance salsa but weren’t sure how
  to follow along? Do you have some basics\,  but feel like there’s room f
 or improvement? Or perhaps you&#8217;ve learned patterns in the past that y
 ou&#8217;re afraid to forget\,  and you&#8217;re looking to enhance your da
 nce skills? 🌟Then\,  this[..]\nhttps://danseparaplyen.dk/events/cuban-sa
 lsa-course-open-level-3/
URL:https://danseparaplyen.dk/events/cuban-salsa-course-open-level-3/
END:VEVENT
END:VCALENDAR