BEGIN:VCALENDAR
VERSION:2.0
PRODID:-//eventon.com NONSGML v1.0//EN
CALSCALE:GREGORIAN
METHOD:PUBLISH
BEGIN:VEVENT
UID:69ebbfc433f6a
DTSTAMP:20260424T190852Z
DTSTART:20240420T200000Z
DTEND:20240421T010000Z
LOCATION:Vestergade 58\,  8000 Aarhus\,  Denmark Vestergade 58\,  8000 Aarhus\,  Denmark
SUMMARY:EQual Club presents a 420 BASS Party -"high-rolling" HoodCat x "far-out" Farley x "bud boss" DJ Eima
DESCRIPTION:HoodCatxSoulClinic presents 420 bass. A Night of jungle/dnb for
  the masses and the stoners to wink wink. Come enjoy great people and amazi
 ng bass music that will sure make you bob your head and reveal that bass fa
 ce. With Farley (soulclinic)HoodCat (alleycats) &#038;Eima (Soulclinic) Eim
 a has been with Function Mass[..]\nhttps://danseparaplyen.dk/events/420-bas
 s/
URL:https://danseparaplyen.dk/events/420-bass/
END:VEVENT
END:VCALENDAR