BEGIN:VCALENDAR
VERSION:2.0
PRODID:-//eventon.com NONSGML v1.0//EN
CALSCALE:GREGORIAN
METHOD:PUBLISH
BEGIN:VEVENT
UID:69e50ab826835
DTSTAMP:20260419T170248Z
DTSTART:20240315T200000Z
DTEND:20240316T010000Z
LOCATION:CasaV58 CasaV58
SUMMARY:Slingrer ned ad Vestergade vol. 4 + Pianobar v/Emil Otto
DESCRIPTION:English👇🏼 Slingrer ned ad Vestergade + Pianobar Sæt stor
 t fedt kryds i kalenderen❌ endnu en fest for voksne! Udover vores store d
 ansegulv åbner vi igen op i vores hyggelige kælderbar\,  der kendetegner 
 sig ved sin stemningsfulde og intime atmosfære. Efter rigtig god succes me
 d vores nye tiltag entrerer vi igen[..]\nhttps://danseparaplyen.dk/events/s
 lingrer-ned-ad-vestergade-vol-4-pianobar/
URL:https://danseparaplyen.dk/events/slingrer-ned-ad-vestergade-vol-4-pianobar/
END:VEVENT
END:VCALENDAR