BEGIN:VCALENDAR
VERSION:2.0
PRODID:-//eventon.com NONSGML v1.0//EN
CALSCALE:GREGORIAN
METHOD:PUBLISH
BEGIN:VEVENT
UID:69e5ac1ab937d
DTSTAMP:20260420T043122Z
DTSTART:20240430T173000Z
DTEND:20240430T203000Z
LOCATION:turkis turkis
SUMMARY:TirsdagsTango på Turkis - aflyst
DESCRIPTION:TirsdagsTango på Turkis &#8211; er aflyst denne dag. Turkis sk
 al bruge salen og så samler vi krudt til andre dage. Vi ses&#8230;Kl. 19.3
 0-23.00 Vi giver hverdagen det lille ekstra embraze &#8211; og du er velkom
 men. Vi danser Argentisk Tango og samtidig er vi en del af et miljø i Aarh
 us\, [..]\nhttps://danseparaplyen.dk/events/tirsdagstango-pa-turkis-aflyst/
URL:https://danseparaplyen.dk/events/tirsdagstango-pa-turkis-aflyst/
END:VEVENT
END:VCALENDAR