BEGIN:VCALENDAR
VERSION:2.0
PRODID:-//eventon.com NONSGML v1.0//EN
CALSCALE:GREGORIAN
METHOD:PUBLISH
BEGIN:VEVENT
UID:69e5d838ee25c
DTSTAMP:20260420T073936Z
DTSTART:20240511T133000Z
DTEND:20240511T180000Z
LOCATION:Godsbanen Godsbanen
SUMMARY:PLANUM SHOWCASE 2024 🕺🏼
DESCRIPTION:Vi afholder igen i år Planum Showcase på Godsbanens Åbne Sce
 ne i Aarhus\,  og vi glæder os SÅ meget! Showet vil vise hele Planums sto
 re dansekatalog og hvad vi ugentligt laver på de forskellige hold. Det er 
 fedest at danse sammen\,  og det glæder vi os til at dele med[..]\nhttps:/
 /danseparaplyen.dk/events/planum-showcase-2024-%f0%9f%95%ba%f0%9f%8f%bc/
URL:https://danseparaplyen.dk/events/planum-showcase-2024-%f0%9f%95%ba%f0%9f%8f%bc/
END:VEVENT
END:VCALENDAR