BEGIN:VCALENDAR
VERSION:2.0
PRODID:-//eventon.com NONSGML v1.0//EN
CALSCALE:GREGORIAN
METHOD:PUBLISH
BEGIN:VEVENT
UID:69e530d8488f2
DTSTAMP:20260419T194528Z
DTSTART:20240322T180000Z
DTEND:20240322T210000Z
LOCATION:Rådet Folkehuset Trøjborg
SUMMARY:Screening + Social Dance
DESCRIPTION:Social Dance at Huset Trøjborg (Room 1.4 upstairs). Feel free 
 to join us for a social dance. Don&#8217;t hesitate to come\,  we will play
  some nice swing tunes. Program: 19.00 Screening of classic Lindy Hop Video
 s19.30 -19.45 Social Dance starts22.00 End 🌊 Remember to bring your wate
 r bottle\,  dancing shoes\, [..]\nhttps://danseparaplyen.dk/events/screenin
 g-social-dance-2/
URL:https://danseparaplyen.dk/events/screening-social-dance-2/
END:VEVENT
END:VCALENDAR