BEGIN:VCALENDAR
VERSION:2.0
PRODID:-//eventon.com NONSGML v1.0//EN
CALSCALE:GREGORIAN
METHOD:PUBLISH
BEGIN:VEVENT
UID:69e51bec6930f
DTSTAMP:20260419T181612Z
DTSTART:20240322T190000Z
DTEND:20240322T220000Z
LOCATION:Folkestedet Folkestedet
SUMMARY:FredagsPractica
DESCRIPTION:FredagspractikaVærtskab og DJ står Inge Merete og Jan Bjørn.
  Prisen er 30 kr. for medlemmer og 50 kr for gæster. I prisen er inkludere
 t lidt vin &#038; en snack. Du kan også gå på hjemmesiden og få VIP pra
 ctica medlemsskab &#8211; så er alle årets practica-glæder betalt og en 
 betydelig[..]\nhttps://danseparaplyen.dk/events/fredagspractica-8/
URL:https://danseparaplyen.dk/events/fredagspractica-8/
END:VEVENT
END:VCALENDAR