BEGIN:VCALENDAR
VERSION:2.0
PRODID:-//eventon.com NONSGML v1.0//EN
CALSCALE:GREGORIAN
METHOD:PUBLISH
BEGIN:VEVENT
UID:69e502e0b6422
DTSTAMP:20260419T162920Z
DTSTART:20240322T190000Z
DTEND:20240322T220000Z
LOCATION:Folkestedet Folkestedet
SUMMARY:Ekstra zouklounge 22/3 med introclass / zouk-taster
DESCRIPTION:Vi holder en ekstra zouklounge fredag d. 22. marts. Program:20 
 &#8211; 21: Drop-in WS with Morten. Introclass / zouk-taster.21 &#8211; 23+
 : Fri dans. Sted: Folkestedet\,  lokale 1.4 (på 1. sal). Ring evt. på klo
 kken ved vores seddel på yderdøren. Pris: Gratis.Men hvis du kommer ofte\
 ,  bør du melde dig ind[..]\nhttps://danseparaplyen.dk/events/ekstra-zoukl
 ounge-22-3-med-introclass-zouk-taster/
URL:https://danseparaplyen.dk/events/ekstra-zouklounge-22-3-med-introclass-zouk-taster/
END:VEVENT
END:VCALENDAR