BEGIN:VCALENDAR
VERSION:2.0
PRODID:-//eventon.com NONSGML v1.0//EN
CALSCALE:GREGORIAN
METHOD:PUBLISH
BEGIN:VEVENT
UID:69e76c7378f39
DTSTAMP:20260421T122419Z
DTSTART:20240425T170000Z
DTEND:20240425T180000Z
LOCATION:Teaterskolen Move'n Act Teaterskolen Move'n Act
SUMMARY:Bachata lady styling course
DESCRIPTION:🌟 Join the third season of Bachata Lady Styling Class with K
 arina at Caribe Club 🌟Are you ready to enhance your Bachata skills and a
 dd a touch of elegance and confidence to your dance? Caribe Club is thrille
 d to introduce our Bachata Lady Styling Class! Course Highlights:💃 Body 
 Isolation: Master[..]\nhttps://danseparaplyen.dk/events/bachata-lady-stylin
 g-course-12/
URL:https://danseparaplyen.dk/events/bachata-lady-styling-course-12/
END:VEVENT
END:VCALENDAR