BEGIN:VCALENDAR
VERSION:2.0
PRODID:-//eventon.com NONSGML v1.0//EN
CALSCALE:GREGORIAN
METHOD:PUBLISH
BEGIN:VEVENT
UID:69e594446021f
DTSTAMP:20260420T024940Z
DTSTART:20240417T170000Z
DTEND:20240417T190000Z
LOCATION:Samsøgades Skole Samsøgades Skole
SUMMARY:Onsdagsdans-Irsk set dance i Århus
DESCRIPTION:Husk at melde ind her om du kommer eller ej. Og tjek begivenhed
 en inden du kører hjemmefra. https://www.facebook.com/events/6395107249825
 07/\nhttps://danseparaplyen.dk/events/onsdagsdans-irsk-set-dance-i-arhus-6/
URL:https://danseparaplyen.dk/events/onsdagsdans-irsk-set-dance-i-arhus-6/
END:VEVENT
END:VCALENDAR