BEGIN:VCALENDAR
VERSION:2.0
PRODID:-//eventon.com NONSGML v1.0//EN
CALSCALE:GREGORIAN
METHOD:PUBLISH
BEGIN:VEVENT
UID:69ec1faf992f5
DTSTAMP:20260425T015807Z
DTSTART:20240420T200000Z
DTEND:20240421T010000Z
LOCATION:CasaV58 CasaV58
SUMMARY:Reggae & Dancehall - Dutty Wine Party
DESCRIPTION:π΄πΆ You&#8217;re Invited to a Caribbean Vibes Night! πΆπ
 ΄ Get ready to feel the rhythm\,  soak up the vibes\,  and dance the nigh
 t away at our Reggae and Dancehall Extravaganza! π Date: 20th April 2024
 π’ Time: 10 pmποΈ Location: CasaV58π΅ Featuring top Dancehall DJΒ΄s
 : Dady Rize &#038; Dj Willy +[..]\nhttps://danseparaplyen.dk/events/reggae-
 dancehall-dutty-wine-party/
URL:https://danseparaplyen.dk/events/reggae-dancehall-dutty-wine-party/
END:VEVENT
END:VCALENDAR