BEGIN:VCALENDAR
VERSION:2.0
PRODID:-//eventon.com NONSGML v1.0//EN
CALSCALE:GREGORIAN
METHOD:PUBLISH
BEGIN:VEVENT
UID:69e6389df0423
DTSTAMP:20260420T143053Z
DTSTART:20240413T200000Z
DTEND:20240414T010000Z
LOCATION:Vestergade 58\,  Aarhus Vestergade 58\,  Aarhus
SUMMARY:EQual Club presents Ivalu x Milaco x Maricle
DESCRIPTION:Ivalu is an upcoming dj and she absolutely loves techno\,  and 
 started sharing the vibe and music that led her to the day\,  she was techn
 otized. First time we heard her play was when she grab the decks at a priva
 te afterparty in down town Aarhus and people just went[..]\nhttps://dansepa
 raplyen.dk/events/equal-club-presents-ivalu-x-milaco-x-maricle/
URL:https://danseparaplyen.dk/events/equal-club-presents-ivalu-x-milaco-x-maricle/
END:VEVENT
END:VCALENDAR