BEGIN:VCALENDAR
VERSION:2.0
PRODID:-//eventon.com NONSGML v1.0//EN
CALSCALE:GREGORIAN
METHOD:PUBLISH
BEGIN:VEVENT
UID:69ec2060e13e6
DTSTAMP:20260425T020104Z
DTSTART:20240421T080000Z
DTEND:20240421T100000Z
LOCATION:Bissensgade 14b\,  8000 Aarhus\,  Denmark Bissensgade 14b\,  8000 Aarhus\,  Denmark
SUMMARY:MW April  - Movement Workshop med Timothy De Mesa Højgaard
DESCRIPTION:OM MÅNEDENS WORKSHOPWorkshoppen kommer til at indeholde en opv
 armning\,  guidet improvisation og noget koreografisk materiale til slut. T
 imothy vil give dig redskaber til at finde inspiration og highlite de værk
 tøjer\,  som du allerede har\,  så du kan bruge dem bedst muligt.Workshop
 pens omdrejningspunkt er “Morph Movement” &#8211; at sammensmelte mange
  forskellige[..]\nhttps://danseparaplyen.dk/events/mw-april-movement-worksh
 op-med-timothy-de-mesa-hojgaard/
URL:https://danseparaplyen.dk/events/mw-april-movement-workshop-med-timothy-de-mesa-hojgaard/
END:VEVENT
END:VCALENDAR