BEGIN:VCALENDAR
VERSION:2.0
PRODID:-//eventon.com NONSGML v1.0//EN
CALSCALE:GREGORIAN
METHOD:PUBLISH
BEGIN:VEVENT
UID:69e5ab910e4d8
DTSTAMP:20260420T042905Z
DTSTART:20240416T170000Z
DTEND:20240416T194500Z
LOCATION:Folkestedet Folkestedet
SUMMARY:Zouklounge 16/4 - fortsættere - 1900-2145
DESCRIPTION:Program:19.00 &#8211; 20.00: Drop-in workshop med Nicky. Niveau
 : Fortsætter (så det forventes at man mindst har taget et begynderforløb
 ).20.00 &#8211; ~21:45: Fri dans\,  Nicky er DJ Sted: Folkestedet lokale 1.
 1 (det store lokale på første sal). Ring evt. på klokken markeret &#8220
 ;zouk&#8221; på yderdøren. Pris: Gratis.Men hvis du kommer ofte\, [..]\nh
 ttps://danseparaplyen.dk/events/zouklounge-16-4-fortsaettere-1900-2145/
URL:https://danseparaplyen.dk/events/zouklounge-16-4-fortsaettere-1900-2145/
END:VEVENT
END:VCALENDAR