BEGIN:VCALENDAR
VERSION:2.0
PRODID:-//eventon.com NONSGML v1.0//EN
CALSCALE:GREGORIAN
METHOD:PUBLISH
BEGIN:VEVENT
UID:69e70d80d67b2
DTSTAMP:20260421T053912Z
DTSTART:20240426T173000Z
DTEND:20240426T214500Z
LOCATION:RÃ¥det Folkehuset TrÃ¸jborg
SUMMARY:Salsa and Bachata Social
DESCRIPTION:19.15 Doors open ðŸ’— Welcome The event will take place in the 
 big hall (1.1) on the first floor of the building at Huset TrÃ¸jborg ðŸ¥³ðŸ
 ¤©ðŸ¤— Salsa 19.30-20.30We are so happy to announce that the outstanding So
 fie BÃ¸ye and her partner Laura Paulsen will be in charge of this FridayÂ´s
 [..]\nhttps://danseparaplyen.dk/events/salsa-and-bachata-social-4/
URL:https://danseparaplyen.dk/events/salsa-and-bachata-social-4/
END:VEVENT
END:VCALENDAR