BEGIN:VCALENDAR
VERSION:2.0
PRODID:-//eventon.com NONSGML v1.0//EN
CALSCALE:GREGORIAN
METHOD:PUBLISH
BEGIN:VEVENT
UID:69e5c4f9540b1
DTSTAMP:20260420T061729Z
DTSTART:20240430T170000Z
DTEND:20240430T200000Z
LOCATION:Folkestedet Folkestedet
SUMMARY:Zouklounge d. 30/4 with Bruno & Raiza!
DESCRIPTION:Program:19-20: Drop-in workshop med Bruno &#038; Raiza.20-22: F
 ri dans\,  Frederik er DJ. Sted: Folkestedet lokale 1.1 (det store lokale p
 å første sal). Ring evt. på klokken ved vores seddel på yderdøren. Pri
 s: Gratis. Men hvis du kommer ofte\,  bør du melde dig ind i Aarhus Zoukfo
 rening: https://forms.gle/SKPBrcWTaY1m1Q8i9\,  eller ved personlig[..]\nhtt
 ps://danseparaplyen.dk/events/zouklounge-d-30-4/
URL:https://danseparaplyen.dk/events/zouklounge-d-30-4/
END:VEVENT
END:VCALENDAR