BEGIN:VCALENDAR
VERSION:2.0
PRODID:-//eventon.com NONSGML v1.0//EN
CALSCALE:GREGORIAN
METHOD:PUBLISH
BEGIN:VEVENT
UID:69e542174b6ed
DTSTAMP:20260419T205903Z
DTSTART:20240508T174000Z
DTEND:20240508T203000Z
LOCATION:Folkestedet Folkestedet
SUMMARY:Kizomba drop in onsdag
DESCRIPTION:En ny fest er klar\,  så glæd dig til denne osdag! 💃🏻
 🏻 INTRO 💃🏻🕺🏻Kl.19.40 vil Catherine introducere tarraxa\,  
 som er en mere og mere udbredt stilart indenfor kizomba. Catherine er en af
  de bedste\,  når det gælder isolations og bodymovement. Der vil blive fo
 kuseret på grundtrin\,  samt essentielle &#8220;Kizomba-regler&#8221; i[..
 ]\nhttps://danseparaplyen.dk/events/kizomba-drop-in-onsdag-7/
URL:https://danseparaplyen.dk/events/kizomba-drop-in-onsdag-7/
END:VEVENT
END:VCALENDAR