BEGIN:VCALENDAR
VERSION:2.0
PRODID:-//eventon.com NONSGML v1.0//EN
CALSCALE:GREGORIAN
METHOD:PUBLISH
BEGIN:VEVENT
UID:69e4f040d8dae
DTSTAMP:20260419T150952Z
DTSTART:20241002T170000Z
DTEND:20241002T193000Z
LOCATION:Studenterhus Aarhus Studenterhus Aarhus
SUMMARY:Nordisk Dans Aarhus - 2. oktober: Engelske rækkedanse med Jeremy Newton ⭐️
DESCRIPTION:Onsdag d. 2. oktober mødes vi til endnu en danseaften\,  og af
 tenens tema er festlige danse fra England! 💃🕺 Vi glæder os til igen 
 at byde på en festlig aften med levende musik\,  kolde øl/sodavand og sel
 vfølgelig en masse dans! Aftenen er GRATIS (😱)\,  og ALLE er velkomne\,
   uanset om[..]\nhttps://danseparaplyen.dk/events/nordisk-dans-aarhus-2-okt
 ober-tba/
URL:https://danseparaplyen.dk/events/nordisk-dans-aarhus-2-oktober-tba/
END:VEVENT
END:VCALENDAR