BEGIN:VCALENDAR
VERSION:2.0
PRODID:-//eventon.com NONSGML v1.0//EN
CALSCALE:GREGORIAN
METHOD:PUBLISH
BEGIN:VEVENT
UID:69ecfad7e7b75
DTSTAMP:20260425T173311Z
DTSTART:20241030T153000Z
DTEND:20241030T183000Z
LOCATION:Valdemarsgade\,  8000 Aarhus C\,  Danmark Valdemarsgade\,  8000 Aarhus C\,  Danmark
SUMMARY:Dans dine Chakraer
DESCRIPTION:DANS DINE CHAKRAER 🍃🪷🍃 Magisk og belivende 8 ugers for
 løb med start &#8211; Århus Tilmeld dig nu og få en plads dette skønne 
 kursus\,  hvor viudforsker chakraerne gennem krop\,  dans\,  og meditativ i
 ndtuning. Med en legende og fordybende tilgang kommer vi i kontakt med krop
 pen fysisk såvel som energetisk og[..]\nhttps://danseparaplyen.dk/events/d
 ans-dine-chakraer/
URL:https://danseparaplyen.dk/events/dans-dine-chakraer/
END:VEVENT
END:VCALENDAR