BEGIN:VCALENDAR
VERSION:2.0
PRODID:-//eventon.com NONSGML v1.0//EN
CALSCALE:GREGORIAN
METHOD:PUBLISH
BEGIN:VEVENT
UID:69e8b1b5eeb28
DTSTAMP:20260422T113205Z
DTSTART:20241016T170000Z
DTEND:20241016T200000Z
LOCATION:Institut for (X)\,  Godsbanen\,  Aarhus Institut for (X)\,  Godsbanen\,  Aarhus
SUMMARY:Blues dance at Institut for (X)
DESCRIPTION:&#8212; Come and get in the mood for blues &#8212; There will b
 e a short introduction for the dance\,  so everyone can join. No matter the
  dance experience. Then the floor is open for social dance. When blues deve
 loped people often danced in small juke-joint. Small venues or private home
 s[..]\nhttps://danseparaplyen.dk/events/blues-dance-at-institut-for-x-5/
URL:https://danseparaplyen.dk/events/blues-dance-at-institut-for-x-5/
END:VEVENT
END:VCALENDAR