BEGIN:VCALENDAR
VERSION:2.0
PRODID:-//eventon.com NONSGML v1.0//EN
CALSCALE:GREGORIAN
METHOD:PUBLISH
BEGIN:VEVENT
UID:69e5c5253e173
DTSTAMP:20260420T061813Z
DTSTART:20241004T170000Z
DTEND:20241004T210000Z
LOCATION:Folkestedet Folkestedet
SUMMARY:FredagsPractica og TangoLab v/Valérie og Jesper
DESCRIPTION:Folkestedet starter aftenen kl. 19 med workshop ved Valerie og 
 Jesper med emnet &#8220;Vals i tæt stil&#8221;. Herefter sædvanlig practi
 ca med Søren som DJ og medvært Charlotte. Prisen er 30 kr. for medlemmer 
 og 50 kr for gæster. I prisen er inkluderet lidt vin &#038; en snack.Du ka
 n også gå[..]\nhttps://danseparaplyen.dk/events/fredagspractica-24/
URL:https://danseparaplyen.dk/events/fredagspractica-24/
END:VEVENT
END:VCALENDAR