BEGIN:VCALENDAR
VERSION:2.0
PRODID:-//eventon.com NONSGML v1.0//EN
CALSCALE:GREGORIAN
METHOD:PUBLISH
BEGIN:VEVENT
UID:69e7f86836ffd
DTSTAMP:20260421T222128Z
DTSTART:20241011T170000Z
DTEND:20241011T210000Z
LOCATION:Folkestedet Folkestedet
SUMMARY:FredagsPractica med TangoLab/Peter Elias
DESCRIPTION:Kære tangovennerDenne fredag faciliterer Peter Elias TangoLab 
 inden aftens Practica/Milonga.En fantastisk medvært er helt sikkert også 
 tilstede♥️ Prisen er 30 kr. for medlemmer og 50 kr for gæster. I prise
 n er inkluderet lidt vin &#038; en snack.Du kan også gå på hjemmesiden o
 g få VIP practica medlemsskab – så er[..]\nhttps://danseparaplyen.dk/ev
 ents/fredagspractica-25/
URL:https://danseparaplyen.dk/events/fredagspractica-25/
END:VEVENT
END:VCALENDAR