BEGIN:VCALENDAR
VERSION:2.0
PRODID:-//eventon.com NONSGML v1.0//EN
CALSCALE:GREGORIAN
METHOD:PUBLISH
BEGIN:VEVENT
UID:69e86a6e3407f
DTSTAMP:20260422T062758Z
DTSTART:20241013T120000Z
DTEND:20241013T160000Z
LOCATION:Mejlgade 53 - midterbygningen\,  1. sal\,  8000 Aarhus\,  Denmark Mejlgade 53 - midterbygningen\,  1. sal\,  8000 Aarhus\,  Denmark
SUMMARY:La Milonguita in October - with intro at 13.15
DESCRIPTION:(English below)Det er oktober og det er tangotid hos La Milongu
 ita ❤ Fra kl 13.15-14 er der begynder intro til tango. Så hjælp os med 
 at invitere alle dem\,  I synes skal prøve den dejlige dans. (Join us at t
 he intro class at 13.15\,  and bring your friends 😊 )[..]\nhttps://danse
 paraplyen.dk/events/la-milonguita-in-october-with-intro-at-13-15/
URL:https://danseparaplyen.dk/events/la-milonguita-in-october-with-intro-at-13-15/
END:VEVENT
END:VCALENDAR