BEGIN:VCALENDAR
VERSION:2.0
PRODID:-//eventon.com NONSGML v1.0//EN
CALSCALE:GREGORIAN
METHOD:PUBLISH
BEGIN:VEVENT
UID:69ed86b51f493
DTSTAMP:20260426T032957Z
DTSTART:20241213T190000Z
DTEND:20241213T220000Z
LOCATION:Folkestedet Folkestedet
SUMMARY:FredagsPractica
DESCRIPTION:Prisen er 30 kr. for medlemmer og 50 kr for gæster. I prisen e
 r inkluderet lidt vin &#038; en snack.Du kan også gå på hjemmesiden og f
 å VIP practica medlemsskab – så er alle årets practica glæder betalt:
 ) https://tangoaarhus.dk/ Program for aftenen:20-21: Practica uden cortinae
 r og med rum og plads[..]\nhttps://danseparaplyen.dk/events/fredagspractica
 -33/
URL:https://danseparaplyen.dk/events/fredagspractica-33/
END:VEVENT
END:VCALENDAR