BEGIN:VCALENDAR
VERSION:2.0
PRODID:-//eventon.com NONSGML v1.0//EN
CALSCALE:GREGORIAN
METHOD:PUBLISH
BEGIN:VEVENT
UID:69e62a9b41c92
DTSTAMP:20260420T133107Z
DTSTART:20241005T110000Z
DTEND:20241006T150000Z
LOCATION:Kochs Skole Kochs Skole
SUMMARY:EN DUFT AF TANGO - Eva Lehrmann og Martin Nymann er tilbage
DESCRIPTION:Sæt kryds i kalenderen og hold øje&#8230; OBS: To forskellige
  lokationer for henholdsvis lørdag og søndag. TILMELDING LØRDAG: https:/
 /tangoaarhus.dk/events/workshop-med-eva-og-martin/OBS Lokationen er Kocks S
 kole. TILMELDING SØNDAG: https://tangoaarhus.dk/events/workshop-med-eva-og
 -martin-2/OBS Fritidscentret\,  Skovvangsvej Program:Vi har glæden af at f
 å besøg af Eva og Martin igen. Skønne mennesker\,  skønne undervisere. 
 Vi glæder os. Letøvet/øvet lørdag 5/10[..]\nhttps://danseparaplyen.dk/e
 vents/en-duft-af-tango-eva-lehrmann-og-martin-nymann-er-tilbage/
URL:https://danseparaplyen.dk/events/en-duft-af-tango-eva-lehrmann-og-martin-nymann-er-tilbage/
END:VEVENT
END:VCALENDAR