BEGIN:VCALENDAR
VERSION:2.0
PRODID:-//eventon.com NONSGML v1.0//EN
CALSCALE:GREGORIAN
METHOD:PUBLISH
BEGIN:VEVENT
UID:69e63fb81f2aa
DTSTAMP:20260420T150112Z
DTSTART:20241005T200000Z
DTEND:20241006T010000Z
LOCATION:CasaV58 CasaV58
SUMMARY:LATIN PARTY
DESCRIPTION:🚨🚨Attention &#8211; get ready to Party!🚨🚨 Latino Pa
 rty in Aarhus!! Entrance fee incl. wardrobe DKK 70Entrance fee before 11 p.
 m DKK 50Students DKK 50 A night with best of latino party beats!Reggaetón\
 ,  Cumbia\,  Dembow and more&#8230;Behind desks and bringing you the real &
 #8220;gozadera&#8221; we have Dj Pablo Kis and Dj[..]\nhttps://danseparaply
 en.dk/events/latin-party/
URL:https://danseparaplyen.dk/events/latin-party/
END:VEVENT
END:VCALENDAR