BEGIN:VCALENDAR
VERSION:2.0
PRODID:-//eventon.com NONSGML v1.0//EN
CALSCALE:GREGORIAN
METHOD:PUBLISH
BEGIN:VEVENT
UID:69e6557dd1f5a
DTSTAMP:20260420T163405Z
DTSTART:20241005T200000Z
DTEND:20241006T010000Z
LOCATION:EQualclub EQualclub
SUMMARY:EQual Club presents Bjørn Svin + support: Frank Honest x Mads Rehl & Synes
DESCRIPTION:Bjørn is back!!!Renowned Electronic Music Pioneer\,  Bjørn Sv
 in\,  Returns to EQual Club &#8211; check out the links to his new releases
  below Bjørn Svin is an internationally acclaimed electronic music artist 
 known for his pioneering contributions to the genre. With a career spanning
  decades\,  he continues to push the boundaries[..]\nhttps://danseparaplyen
 .dk/events/equal-club-x-dogu-records/
URL:https://danseparaplyen.dk/events/equal-club-x-dogu-records/
END:VEVENT
END:VCALENDAR